BEGIN:VCALENDAR
VERSION:2.0
PRODID:-//ChamberMaster//Event Calendar 2.0//EN
METHOD:PUBLISH
X-PUBLISHED-TTL:P3D
REFRESH-INTERVAL:P3D
CALSCALE:GREGORIAN
BEGIN:VEVENT
DTSTART:20241130T160000Z
DTEND:20241130T180000Z
X-MICROSOFT-CDO-ALLDAYEVENT:FALSE
SUMMARY:The Science Heroes Presenting DRY ICE Demonstration Station It’s a GAS! Hosted by CCMNH
DESCRIPTION:This fun\, interactive\, learning adventure will introduce participants to solids\, liquids\, and gasses as the Science Heroes experiment with the coolest thing in science: DRY ICE!\n\n \n\nAttendees may get to touch and taste a cloud\, pop bubbles filled with dry ice gas\, and even have a bucket of fog dumped on their heads! Participants move through the demonstration station at 15-minute adventure intervals. Join us for this fun and educational event!
X-ALT-DESC;FMTTYPE=text/html:<span style="font-size:14.0pt\;">This fun\, interactive\, learning adventure will introduce participants to solids\, liquids\, and gasses as the Science Heroes experiment with the coolest thing in science: DRY ICE!</span><br />\n&nbsp\;<br />\n<span style="font-size:14.0pt\;">Attendees may get to touch and taste a cloud\, pop bubbles filled with dry ice gas\, and even have a bucket of fog dumped on their heads! Participants move through the demonstration station at 15-minute adventure intervals. Join us for this fun and educational event!</span>
LOCATION:
UID:e.3353.7603
SEQUENCE:3
DTSTAMP:20260425T182135Z
URL:https://members.brewster-capecod.com/events/details/the-science-heroes-presenting-dry-ice-demonstration-station-it-s-a-gas-hosted-by-ccmnh-7603
END:VEVENT

END:VCALENDAR
