BEGIN:VCALENDAR
VERSION:2.0
PRODID:-//ChamberMaster//Event Calendar 2.0//EN
METHOD:PUBLISH
X-PUBLISHED-TTL:P3D
REFRESH-INTERVAL:P3D
CALSCALE:GREGORIAN
BEGIN:VEVENT
DTSTART:20240810T180000Z
DTEND:20240810T193000Z
X-MICROSOFT-CDO-ALLDAYEVENT:FALSE
SUMMARY:Scrimshaw: The Whaleman’s Art with Curtis Martin
DESCRIPTION:In this presentation we'll explore the art produced by American whale men\, principally on 19th century whaling cruises. Scrimshaw is defined as practical and decorative items made by whaling crews from the materials at hand\, principally the teeth and bone of whales \, and explores what motivated whale men to engage in this unique craft. It examines the raw materials used\, the tools employed\, and the techniques for producing scrimshaw. The bulk of the presentation examines the range of products --from tools for use on shipboard\; practical gift items such as boxes\, baskets\, kitchen utensils\, canes\, and sewing implements\; and best-known of all\, engraved sperm whale teeth.
X-ALT-DESC;FMTTYPE=text/html:In this presentation we&#39\;ll explore the art produced by American whale men\, principally on 19th century whaling cruises. Scrimshaw is defined as practical and decorative items made by whaling crews from the materials at hand\, principally the teeth and bone of whales \, and explores what motivated whale men to engage in this unique craft. It examines the raw materials used\, the tools employed\, and the techniques for producing scrimshaw. The bulk of the presentation examines the range of products --from tools for use on shipboard\; practical gift items such as boxes\, baskets\, kitchen utensils\, canes\, and sewing implements\; and best-known of all\, engraved sperm whale teeth.
LOCATION:Auditorium Brewster Ladies' Library1822 Main Street\, Brewster\, MA\, 02631
UID:e.3353.7529
SEQUENCE:3
DTSTAMP:20260425T233759Z
URL:https://members.brewster-capecod.com/events/details/scrimshaw-the-whaleman-s-art-with-curtis-martin-7529
END:VEVENT

END:VCALENDAR
