BEGIN:VCALENDAR
VERSION:2.0
PRODID:-//ChamberMaster//Event Calendar 2.0//EN
METHOD:PUBLISH
X-PUBLISHED-TTL:P3D
REFRESH-INTERVAL:P3D
CALSCALE:GREGORIAN
BEGIN:VEVENT
DTSTART:20221122T140000Z
DTEND:20221122T160000Z
X-MICROSOFT-CDO-ALLDAYEVENT:FALSE
SUMMARY:Pie Sale
DESCRIPTION:Countdown to Thanksgiving! Now is the time to stock up on pies. \n\n \n\nThe Garden Club of Brewster is hosting its annual pie sale at the Council on Aging. Proceeds from the sale go to supporting community gardens and island whiskey barrel garden expenses. \n\n \n\nAll pies are priced at $15.
X-ALT-DESC;FMTTYPE=text/html:<div style="color: rgb(204\, 116\, 1)\; font-family: Arial\, Verdana\, Helvetica\, sans-serif\; font-size: 14px\; white-space: pre-wrap\; background-color: rgb(255\, 255\, 255)\;"><span style="font-size: 18px\; color: rgb(21\, 21\, 21)\; font-family: Candara\, &quot\;Trebuchet MS&quot\;\, Arial\, sans-serif\;">Countdown to Thanksgiving! Now is the time to stock up on pies. </span></div>\n\n<div style="color: rgb(204\, 116\, 1)\; font-family: Arial\, Verdana\, Helvetica\, sans-serif\; font-size: 14px\; white-space: pre-wrap\; background-color: rgb(255\, 255\, 255)\;">&nbsp\;</div>\n\n<div style="color: rgb(204\, 116\, 1)\; font-family: Arial\, Verdana\, Helvetica\, sans-serif\; font-size: 14px\; white-space: pre-wrap\; background-color: rgb(255\, 255\, 255)\;"><span style="font-size: 18px\; color: rgb(21\, 21\, 21)\; font-family: Candara\, &quot\;Trebuchet MS&quot\;\, Arial\, sans-serif\;">The Garden Club of Brewster is hosting its annual pie sale at the Council on Aging. Proceeds from the sale go to supporting community gardens and island whiskey barrel garden expenses. </span></div>\n\n<div style="color: rgb(204\, 116\, 1)\; font-family: Arial\, Verdana\, Helvetica\, sans-serif\; font-size: 14px\; white-space: pre-wrap\; background-color: rgb(255\, 255\, 255)\;">&nbsp\;</div>\n\n<div style="color: rgb(204\, 116\, 1)\; font-family: Arial\, Verdana\, Helvetica\, sans-serif\; font-size: 14px\; white-space: pre-wrap\; background-color: rgb(255\, 255\, 255)\;"><span style="font-size: 18px\; color: rgb(21\, 21\, 21)\; font-family: Candara\, &quot\;Trebuchet MS&quot\;\, Arial\, sans-serif\;">All pies are priced at $15.</span></div>\n
LOCATION:
UID:e.3353.4707
SEQUENCE:3
DTSTAMP:20260419T123535Z
URL:https://members.brewster-capecod.com/events/details/pie-sale-4707
END:VEVENT

END:VCALENDAR
