BEGIN:VCALENDAR
VERSION:2.0
PRODID:-//ChamberMaster//Event Calendar 2.0//EN
METHOD:PUBLISH
X-PUBLISHED-TTL:P3D
REFRESH-INTERVAL:P3D
CALSCALE:GREGORIAN
BEGIN:VEVENT
DTSTART:20231130T220000Z
DTEND:20231201T000000Z
X-MICROSOFT-CDO-ALLDAYEVENT:FALSE
SUMMARY:First Parish Brewster presents Rog Smith Author Talk: A Tale of Two Characters
DESCRIPTION:Author of Rian Krieger's Journey\, A Saga in 9 Parts Book 2\, The Coachman was published by Sunbury Press on November 2. Book 1\, The Conductor was the winner of a SUNNY Award in 2022 Thursday\, November 30   5 PM in the Parish Hall\, First Parish Brewster Unitarian Universalist Church Those of you who read The Conductor may remember Rian Krieger\, a feisty 11-year-old tomboy\, and Jules Freeman\, the self-emancipated foreman at Krieger Coach. Both of these characters evolved over many revisions before Book 1 was published. Rog will walk us through their evolution from first draft to 3-dimensional\, believable\, compelling individuals and their ongoing growth in Book 2. Rog's presentation will include excerpts from The Coachman and leave time for Q&A. Admission to this event is free\, but donations will be accepted. The Conductor ($20) and The Coachman ($28) will be sold at this presentation. Fifty percent of the purchase price will go to First Parish Brewster. Parking across the street at the Brewster Thrift Store\, behind the Brewster Chowder House\, or down Cottonwood Dr. to the large "Parking" sign.
X-ALT-DESC;FMTTYPE=text/html:Author of Rian Krieger&rsquo\;s Journey\, A Saga in 9 Parts Book 2\, The Coachman was published by Sunbury Press on November 2. Book 1\, The Conductor was the winner of a SUNNY Award in 2022 Thursday\, November 30 &ndash\; 5 PM in the Parish Hall\, First Parish Brewster Unitarian Universalist Church Those of you who read The Conductor may remember Rian Krieger\, a feisty 11-year-old tomboy\, and Jules Freeman\, the self-emancipated foreman at Krieger Coach. Both of these characters evolved over many revisions before Book 1 was published. Rog will walk us through their evolution&mdash\;from first draft to 3-dimensional\, believable\, compelling individuals&mdash\;and their ongoing growth in Book 2. Rog&rsquo\;s presentation will include excerpts from The Coachman and leave time for Q&amp\;A. Admission to this event is free\, but donations will be accepted. The Conductor ($20) and The Coachman ($28) will be sold at this presentation. Fifty percent of the purchase price will go to First Parish Brewster. Parking across the street at the Brewster Thrift Store\, behind the Brewster Chowder House\, or down Cottonwood Dr. to the large &ldquo\;Parking&rdquo\; sign.
LOCATION:First Parish Brewster 1969 Main St. Brewster\, MA 02631
UID:e.3353.6863
SEQUENCE:3
DTSTAMP:20260422T210409Z
URL:https://members.brewster-capecod.com/events/details/first-parish-brewster-presents-rog-smith-author-talk-a-tale-of-two-characters-6863
END:VEVENT

END:VCALENDAR
