BEGIN:VCALENDAR
VERSION:2.0
PRODID:-//ChamberMaster//Event Calendar 2.0//EN
METHOD:PUBLISH
X-PUBLISHED-TTL:P3D
REFRESH-INTERVAL:P3D
CALSCALE:GREGORIAN
BEGIN:VEVENT
DTSTART:20240811T230000Z
DTEND:20240812T003000Z
X-MICROSOFT-CDO-ALLDAYEVENT:FALSE
SUMMARY:Evening Glow Eco Paddle Fun-Raiser with Brewster Ponds Coalition
DESCRIPTION:Don't miss this experience that will be a highlight of your last days of the summer. Join the Brewster Ponds Coalition and SUPfari Adventures (BPC business partner) on this evening glow Eco Paddle "fun-raiser" that will begin at Arey's Pond in Orleans at 7:00 PM on Sunday\, August 11. This unique activity combines the sights and sounds of the "golden" sunset hours with the peace and stillness of the evening. With a single switch\, kayaks and stand-up paddleboards (SUPs) will transform into floating flashlights\, illuminating the marine life beneath the water's surface. The eco paddle guides will lead you from Arey's Pond into Little Pleasant Bay and back. The event is approximately 1 -2 hours\, including brief safety instruction. Kayaks\, paddleboards\, and gear\, including personal flotation devices\, will be provided by SUPfari Adventures. Spaces will fill up quickly as this unique event is limited to 12 participants (minimum age is 14). Registration is required in advance via this link: https://tinyurl.com/BPC-evening-paddle-11Aug24. Admission is $50 for ages 14-25\, and $75 for anyone over 25. When registering\, please indicate your choice of a kayak or SUP for each participant. More details\, including what to wear and parking information\, will be provided to registrants in advance of the event.
X-ALT-DESC;FMTTYPE=text/html:Don&rsquo\;t miss this experience that will be a highlight of your last days of the summer. Join the Brewster Ponds Coalition and SUPfari Adventures (BPC business partner) on this evening glow Eco Paddle &ldquo\;fun-raiser&rdquo\; that will begin at Arey&rsquo\;s Pond in Orleans at 7:00 PM on Sunday\, August 11. This unique activity combines the sights and sounds of the &ldquo\;golden&rdquo\; sunset hours with the peace and stillness of the evening. With a single switch\, kayaks and stand-up paddleboards (SUPs) will transform into floating flashlights\, illuminating the marine life beneath the water&rsquo\;s surface. The eco paddle guides will lead you from Arey&rsquo\;s Pond into Little Pleasant Bay and back. The event is approximately 1&frac12\;-2 hours\, including brief safety instruction. Kayaks\, paddleboards\, and gear\, including personal flotation devices\, will be provided by SUPfari Adventures. Spaces will fill up quickly as this unique event is limited to 12 participants (minimum age is 14). Registration is required in advance via this link: https://tinyurl.com/BPC-evening-paddle-11Aug24. Admission is $50 for ages 14-25\, and $75 for anyone over 25. When registering\, please indicate your choice of a kayak or SUP for each participant. More details\, including what to wear and parking information\, will be provided to registrants in advance of the event.
LOCATION:Arey's Pond Orleans\, MA
UID:e.3353.7523
SEQUENCE:3
DTSTAMP:20260425T233630Z
URL:https://members.brewster-capecod.com/events/details/evening-glow-eco-paddle-fun-raiser-with-brewster-ponds-coalition-7523
END:VEVENT

END:VCALENDAR
