BEGIN:VCALENDAR
VERSION:2.0
PRODID:-//ChamberMaster//Event Calendar 2.0//EN
METHOD:PUBLISH
X-PUBLISHED-TTL:P3D
REFRESH-INTERVAL:P3D
CALSCALE:GREGORIAN
BEGIN:VEVENT
DTSTART:20221015T150000Z
DTEND:20221015T160000Z
X-MICROSOFT-CDO-ALLDAYEVENT:FALSE
SUMMARY:CCMNH: Walk with our Archaeologist
DESCRIPTION:The Cape Cod Museum of Natural History  \n\nPresents \n\nWalk with Our Archaeologist \n\nSeptember/October\n\n  \n\nBREWSTER\, MA   The Cape Cod Museum of Natural History presents Walk with Our Archaeologist\, Dan Zoto.\n\n \n\n Join Dan for a guided walk of Wing Island\, the location of the Wing Island Archaeology Project. Learn about the archaeology of the island and its diverse history that includes Native Americans\, Brewster's first colonists\, 19th century salt works\, and other topics.  \n\n \n\nDan Zoto is a professional archaeologist and engaging lecturer that works and lives on Cape Cod. His research interests include stone tools\, coastal archaeology\, and cultural resource management.  \n\n \n\nSEPTEMBER\n\n1  11:00am\n\n14  11:00am\n\n21   1:00pm\n\n \n\nOCTOBER\n\n5   11:00am\n\n15  11:00am\n\n19   11:00am\n\n \n\nREGISTRATION REQUIRED / SPACE LIMITED / \n\nTickets: $10 per person / Does not include Museum Admission \n\nAvailable online at www.ccmnh.org
X-ALT-DESC;FMTTYPE=text/html:<p align="center" class="paragraph" style="margin:0in\;text-align:center\;vertical-align:\nbaseline"><span class="normaltextrun"><b><span style="font-size:10.0pt\;\nfont-family:&quot\;Franklin Gothic Book&quot\;\,sans-serif\;color:black">&nbsp\;</span></b></span><span class="normaltextrun"><b><span style="font-size:14.0pt\;font-family:&quot\;Franklin Gothic Medium&quot\;\,sans-serif\;\ncolor:black">The Cape Cod Museum of Natural History&nbsp\;</span></b></span><span class="eop"><span style="font-size:14.0pt\;font-family:&quot\;Franklin Gothic Medium&quot\;\,sans-serif\;\ncolor:black">&nbsp\;</span></span><span style="font-size:9.0pt\;font-family:&quot\;Segoe UI&quot\;\,sans-serif"><o:p></o:p></span></p>\n\n<p align="center" class="paragraph" style="margin:0in\;text-align:center\;vertical-align:\nbaseline"><span class="normaltextrun"><b><span style="font-size:11.0pt\;\nfont-family:&quot\;Franklin Gothic Medium&quot\;\,sans-serif\;color:black">Presents</span></b></span><span class="eop"><span style="font-family:&quot\;Franklin Gothic Medium&quot\;\,sans-serif\;\ncolor:black">&nbsp\;</span></span><span style="font-size:9.0pt\;font-family:&quot\;Segoe UI&quot\;\,sans-serif"><o:p></o:p></span></p>\n\n<p align="center" class="paragraph" style="margin:0in\;text-align:center\;vertical-align:\nbaseline"><span class="normaltextrun"><b><i><span style="font-size:16.0pt\;\nfont-family:&quot\;Franklin Gothic Medium&quot\;\,sans-serif\;color:black">Walk with Our Archaeologist</span></i></b></span><span class="eop"><span style="font-size:16.0pt\;\nfont-family:&quot\;Franklin Gothic Medium&quot\;\,sans-serif\;color:black">&nbsp\;</span></span><span style="font-size:9.0pt\;font-family:&quot\;Segoe UI&quot\;\,sans-serif"><o:p></o:p></span></p>\n\n<p align="center" class="paragraph" style="margin:0in\;text-align:center\;vertical-align:\nbaseline"><span class="eop"><span style="font-family:&quot\;Franklin Gothic Medium&quot\;\,sans-serif\;\ncolor:black">September/October</span></span><span style="font-size:9.0pt\;\nfont-family:&quot\;Segoe UI&quot\;\,sans-serif"><o:p></o:p></span></p>\n\n<p align="center" class="paragraph" style="margin:0in\;text-align:center\;vertical-align:\nbaseline"><span class="normaltextrun"><b><i><span style="font-size:8.0pt\;\nfont-family:&quot\;Franklin Gothic Book&quot\;\,sans-serif\;color:black">&nbsp\;</span></i></b></span><span class="eop"><span style="font-size:8.0pt\;font-family:&quot\;Franklin Gothic Book&quot\;\,sans-serif\;\ncolor:black">&nbsp\;</span></span><span style="font-size:9.0pt\;font-family:&quot\;Segoe UI&quot\;\,sans-serif"><o:p></o:p></span></p>\n\n<p class="paragraph" style="margin:0in\;vertical-align:baseline"><span class="normaltextrun"><span style="font-family:&quot\;Franklin Gothic Book&quot\;\,sans-serif\;\ncolor:#262626">BREWSTER\, MA &mdash\; </span></span><span class="normaltextrun"><span style="font-size:11.0pt\;font-family:&quot\;Franklin Gothic Book&quot\;\,sans-serif\;\ncolor:#262626">The Cape Cod Museum of Natural History presents&nbsp\;<i>Walk with Our Archaeologist\,</i> Dan Zoto.</span></span><span style="font-size:9.0pt\;\nfont-family:&quot\;Segoe UI&quot\;\,sans-serif"><o:p></o:p></span></p>\n\n<p class="paragraph" style="margin:0in\;vertical-align:baseline"><span class="eop"><span style="font-family:&quot\;Franklin Gothic Book&quot\;\,sans-serif\;color:#262626">&nbsp\;</span></span><span style="font-size:9.0pt\;font-family:&quot\;Segoe UI&quot\;\,sans-serif"><o:p></o:p></span></p>\n\n<p class="paragraph" style="margin:0in\;vertical-align:baseline"><span class="normaltextrun"><span style="font-size:11.0pt\;font-family:&quot\;Franklin Gothic Book&quot\;\,sans-serif\;\ncolor:#262626">&nbsp\;</span></span><span class="normaltextrun"><span style="font-size:11.5pt\;font-family:&quot\;Franklin Gothic Book&quot\;\,sans-serif\;\ncolor:black">Join Dan for a guided walk of Wing Island\, the location of the Wing Island Archaeology Project. Learn about the archaeology of the island and its</span></span><span class="normaltextrun"><span style="font-size:11.5pt\;\nfont-family:&quot\;Arial&quot\;\,sans-serif\;color:black">&#8239\;</span></span><span class="normaltextrun"><span style="font-size:11.5pt\;font-family:&quot\;Franklin Gothic Book&quot\;\,sans-serif\;\ncolor:black">diverse history that includes Native Americans\,</span></span><span class="normaltextrun"><span style="font-size:11.5pt\;font-family:&quot\;Arial&quot\;\,sans-serif\;\ncolor:black">&#8239\;</span></span><span class="normaltextrun"><span style="font-size:\n11.5pt\;font-family:&quot\;Franklin Gothic Book&quot\;\,sans-serif\;color:black">Brewster&#39\;s first colonists\, 19th century salt works\, and other topics.</span></span><span class="normaltextrun"><span style="font-size:11.5pt\;font-family:&quot\;Arial&quot\;\,sans-serif\;\ncolor:black">&#8239\;</span></span><span class="eop"><span style="font-size:11.5pt\;\nfont-family:&quot\;Franklin Gothic Book&quot\;\,sans-serif\;color:black">&nbsp\;</span></span><span style="font-size:9.0pt\;font-family:&quot\;Segoe UI&quot\;\,sans-serif"><o:p></o:p></span></p>\n\n<p class="paragraph" style="margin:0in\;background:white\;vertical-align:baseline"><span class="eop"><span style="font-size:11.5pt\;font-family:&quot\;Franklin Gothic Book&quot\;\,sans-serif\;\ncolor:black">&nbsp\;</span></span><span style="font-size:9.0pt\;font-family:&quot\;Segoe UI&quot\;\,sans-serif"><o:p></o:p></span></p>\n\n<p class="paragraph" style="margin:0in\;background:white\;vertical-align:baseline"><span class="normaltextrun"><span style="font-size:11.5pt\;font-family:&quot\;Franklin Gothic Book&quot\;\,sans-serif\;\ncolor:black">Dan Zoto is a professional archaeologist and engaging lecturer that works and lives on Cape Cod. His research interests include stone tools\, coastal archaeology\, and cultural resource management.</span></span><span class="normaltextrun"><span style="font-size:11.5pt\;font-family:&quot\;Arial&quot\;\,sans-serif\;\ncolor:black">&#8239\;</span></span><span class="eop"><span style="font-size:11.5pt\;\nfont-family:&quot\;Franklin Gothic Book&quot\;\,sans-serif\;color:black">&nbsp\;<o:p></o:p></span></span></p>\n\n<p class="paragraph" style="margin:0in\;background:white\;vertical-align:baseline"><span class="eop"><span style="font-size:11.5pt\;font-family:&quot\;Franklin Gothic Book&quot\;\,sans-serif\;\ncolor:black"><o:p>&nbsp\;</o:p></span></span></p>\n\n<p class="paragraph" style="margin:0in\;background:white\;vertical-align:baseline"><span class="eop"><b><span style="font-size:11.5pt\;font-family:&quot\;Franklin Gothic Book&quot\;\,sans-serif\;\ncolor:black">SEPTEMBER<o:p></o:p></span></b></span></p>\n\n<p class="paragraph" style="margin:0in\;background:white\;vertical-align:baseline"><span class="eop"><span style="font-size:11.5pt\;font-family:&quot\;Franklin Gothic Book&quot\;\,sans-serif\;\ncolor:black">1 &ndash\;11:00am<o:p></o:p></span></span></p>\n\n<p class="paragraph" style="margin:0in\;background:white\;vertical-align:baseline"><span class="eop"><span style="font-size:11.5pt\;font-family:&quot\;Franklin Gothic Book&quot\;\,sans-serif\;\ncolor:black">14 &ndash\;11:00am<o:p></o:p></span></span></p>\n\n<p class="paragraph" style="margin:0in\;background:white\;vertical-align:baseline"><span class="eop"><span style="font-size:11.5pt\;font-family:&quot\;Franklin Gothic Book&quot\;\,sans-serif\;\ncolor:black">21 &ndash\; 1:00pm<o:p></o:p></span></span></p>\n\n<p class="paragraph" style="margin:0in\;background:white\;vertical-align:baseline"><span class="eop"><span style="font-size:11.5pt\;font-family:&quot\;Franklin Gothic Book&quot\;\,sans-serif\;\ncolor:black"><o:p>&nbsp\;</o:p></span></span></p>\n\n<p class="paragraph" style="margin:0in\;background:white\;vertical-align:baseline"><span class="eop"><b><span style="font-size:11.5pt\;font-family:&quot\;Franklin Gothic Book&quot\;\,sans-serif\;\ncolor:black">OCTOBER<o:p></o:p></span></b></span></p>\n\n<p class="paragraph" style="margin:0in\;background:white\;vertical-align:baseline"><span class="eop"><span style="font-size:11.5pt\;font-family:&quot\;Franklin Gothic Book&quot\;\,sans-serif\;\ncolor:black">5 &ndash\; 11:00am<o:p></o:p></span></span></p>\n\n<p class="paragraph" style="margin:0in\;background:white\;vertical-align:baseline"><span class="eop"><span style="font-size:11.5pt\;font-family:&quot\;Franklin Gothic Book&quot\;\,sans-serif\;\ncolor:black">15 &ndash\;11:00am<o:p></o:p></span></span></p>\n\n<p class="paragraph" style="margin:0in\;background:white\;vertical-align:baseline"><span class="eop"><span style="font-size:11.5pt\;font-family:&quot\;Franklin Gothic Book&quot\;\,sans-serif\;\ncolor:black">19 &ndash\; 11:00am</span></span><span style="font-size:9.0pt\;font-family:\n&quot\;Segoe UI&quot\;\,sans-serif"><o:p></o:p></span></p>\n\n<p class="paragraph" style="margin:0in\;vertical-align:baseline"><span class="eop"><span style="font-family:&quot\;Franklin Gothic Book&quot\;\,sans-serif\;color:black">&nbsp\;</span></span><span style="font-size:9.0pt\;font-family:&quot\;Segoe UI&quot\;\,sans-serif"><o:p></o:p></span></p>\n\n<p class="paragraph" style="margin:0in\;vertical-align:baseline"><span class="normaltextrun"><b><span style="font-size:10.0pt\;font-family:&quot\;Franklin Gothic Book&quot\;\,sans-serif\;\ncolor:black">REGISTRATION REQUIRED / SPACE LIMITED /</span></b></span><span class="eop"><span style="font-size:10.0pt\;font-family:&quot\;Franklin Gothic Book&quot\;\,sans-serif\;\ncolor:black">&nbsp\;</span></span><span style="font-size:10.0pt\;font-family:\n&quot\;Segoe UI&quot\;\,sans-serif"><o:p></o:p></span></p>\n\n<p class="paragraph" style="margin:0in\;vertical-align:baseline"><span class="normaltextrun"><b><span style="font-size:10.0pt\;font-family:&quot\;Franklin Gothic Book&quot\;\,sans-serif\;\ncolor:black">Tickets: $10 per person / Does not include Museum Admission</span></b></span><span class="eop"><span style="font-size:10.0pt\;font-family:&quot\;Franklin Gothic Book&quot\;\,sans-serif\;\ncolor:black">&nbsp\;</span></span><span style="font-size:10.0pt\;font-family:\n&quot\;Segoe UI&quot\;\,sans-serif"><o:p></o:p></span></p>\n\n<p class="paragraph" style="margin:0in\;vertical-align:baseline"><span class="normaltextrun"><b><span style="font-size:10.0pt\;font-family:&quot\;Franklin Gothic Book&quot\;\,sans-serif\;\ncolor:black">Available online at </span></b></span><span class="normaltextrun"><b><u><span style="font-size:10.0pt\;font-family:&quot\;Franklin Gothic Book&quot\;\,sans-serif\;\ncolor:#0563C1"><a href="http://www.ccmnh.org">www.ccmnh.org</a></span></u></b></span><span class="eop"><span style="font-size:10.0pt\;font-family:&quot\;Franklin Gothic Book&quot\;\,sans-serif\;\ncolor:#0563C1">&nbsp\;</span></span><span style="font-size:10.0pt\;font-family:\n&quot\;Segoe UI&quot\;\,sans-serif"><o:p></o:p></span></p>\n
LOCATION:
UID:e.3353.4644
SEQUENCE:3
DTSTAMP:20260419T201202Z
URL:https://members.brewster-capecod.com/events/details/ccmnh-walk-with-our-archaeologist-4644
END:VEVENT

END:VCALENDAR
