BEGIN:VCALENDAR
VERSION:2.0
PRODID:-//ChamberMaster//Event Calendar 2.0//EN
METHOD:PUBLISH
X-PUBLISHED-TTL:P3D
REFRESH-INTERVAL:P3D
CALSCALE:GREGORIAN
BEGIN:VEVENT
DTSTART:20250314T220000Z
DTEND:20250315T000000Z
X-MICROSOFT-CDO-ALLDAYEVENT:FALSE
SUMMARY:Cape Symphony Presents: St. Patrick’s Party with Rose Clancy Trio
DESCRIPTION:Cape Symphony Presents brings the Rose Clancy Trio to Devil's Purse Brewing Company (120 Great Western Road\, South Dennis\, MA) on Friday\, March 14\, 2025 at 6:00 PM. Celebrate St. Patrick's Day with lively Irish tunes from Rose Clancy at Devil's Purse Brewing! Rose Clancy is one of the Northeast's most respected traditional Irish musicians. With her unique fiddle style influenced by Northern Irish\, Scottish\, and French Canadian traditions\, Rose will bring the spirit of St. Patrick's Day to life in an energetic\, foot-stomping performance that will have you dancing all night long! Paired with the delicious craft brews of Devil's Purse Brewing Company\, it's the perfect way to celebrate the Irish holiday! Whether you're a Celtic music enthusiast or just looking for a fun-filled celebration\, this event will have you feeling the luck of the Irish. Come ready to raise a pint\, sing along\, and enjoy the cozy atmosphere of Devil's Purse Brewing Company\, one of the Cape's favorite spots for craft beer lovers. This event is expected to sell out\, so don't wait! Grab your tickets today and join us for a St. Patrick's Party that will have you celebrating Irish culture and music in style. Tickets are $25\; purchase through Eventbrite.
X-ALT-DESC;FMTTYPE=text/html:Cape Symphony Presents brings the Rose Clancy Trio to Devil&rsquo\;s Purse Brewing Company (120 Great Western Road\, South Dennis\, MA) on Friday\, March 14\, 2025 at 6:00 PM. Celebrate St. Patrick&#39\;s Day with lively Irish tunes from Rose Clancy at Devil&#39\;s Purse Brewing! Rose Clancy is one of the Northeast&rsquo\;s most respected traditional Irish musicians. With her unique fiddle style influenced by Northern Irish\, Scottish\, and French Canadian traditions\, Rose will bring the spirit of St. Patrick&#39\;s Day to life in an energetic\, foot-stomping performance that will have you dancing all night long! Paired with the delicious craft brews of Devil&rsquo\;s Purse Brewing Company\, it&rsquo\;s the perfect way to celebrate the Irish holiday! Whether you&#39\;re a Celtic music enthusiast or just looking for a fun-filled celebration\, this event will have you feeling the luck of the Irish. Come ready to raise a pint\, sing along\, and enjoy the cozy atmosphere of Devil&rsquo\;s Purse Brewing Company\, one of the Cape&rsquo\;s favorite spots for craft beer lovers. This event is expected to sell out\, so don&rsquo\;t wait! Grab your tickets today and join us for a St. Patrick&rsquo\;s Party that will have you celebrating Irish culture and music in style. Tickets are $25\; purchase through Eventbrite.
LOCATION:Devil's Purse Brewing Company 120 Great Western Road\, South Dennis\, MA
UID:e.3353.7769
SEQUENCE:3
DTSTAMP:20260424T193254Z
URL:https://members.brewster-capecod.com/events/details/cape-symphony-presents-st-patrick-s-party-with-rose-clancy-trio-7769
END:VEVENT

END:VCALENDAR
