BEGIN:VCALENDAR
VERSION:2.0
PRODID:-//ChamberMaster//Event Calendar 2.0//EN
METHOD:PUBLISH
X-PUBLISHED-TTL:P3D
REFRESH-INTERVAL:P3D
CALSCALE:GREGORIAN
BEGIN:VEVENT
DTSTART:20240808T230000Z
DTEND:20240809T010000Z
X-MICROSOFT-CDO-ALLDAYEVENT:FALSE
SUMMARY:Cape Symphony presents Sasha Papernik & Justin Poindexter: Everly Brothers and Beyond
DESCRIPTION:American music is full of iconic duos\, where the skills of two artists unite to make something truly special and memorable. The haunting close harmonies of the Everly Brothers\, the swinging phrasing of the Barry Sisters\, and the dazzling musical innovations of Les Paul and Mary Ford profoundly influenced successive generations of musicians\, and their legacies are still felt and celebrated today. In this concert\, award-winning Americana duo 'Our Band' (Sasha Papernik and Justin Poindexter) salute their favorite musical duos\, alongside their own original music and wide-ranging repertoire\, all delivered with their quick wit\, virtuoso style and airtight harmonies.
X-ALT-DESC;FMTTYPE=text/html:American music is full of iconic duos\, where the skills of two artists unite to make something truly special and memorable. The haunting close harmonies of the Everly Brothers\, the swinging phrasing of the Barry Sisters\, and the dazzling musical innovations of Les Paul and Mary Ford profoundly influenced successive generations of musicians\, and their legacies are still felt and celebrated today. In this concert\, award-winning Americana duo &lsquo\;Our Band&rsquo\; (Sasha Papernik and Justin Poindexter) salute their favorite musical duos\, alongside their own original music and wide-ranging repertoire\, all delivered with their quick wit\, virtuoso style and airtight harmonies.
LOCATION:Wellfleet Preservation Hall 335 Main Street\, Wellfleet
UID:e.3353.7532
SEQUENCE:3
DTSTAMP:20260425T233916Z
URL:https://members.brewster-capecod.com/events/details/cape-symphony-presents-sasha-papernik-justin-poindexter-everly-brothers-and-beyond-7532
END:VEVENT

END:VCALENDAR
