BEGIN:VCALENDAR
VERSION:2.0
PRODID:-//ChamberMaster//Event Calendar 2.0//EN
METHOD:PUBLISH
X-PUBLISHED-TTL:P3D
REFRESH-INTERVAL:P3D
CALSCALE:GREGORIAN
BEGIN:VEVENT
DTSTART:20241026T230000Z
DTEND:20241027T010000Z
X-MICROSOFT-CDO-ALLDAYEVENT:FALSE
SUMMARY:Cape Symphony Presents: Fabiola Méndez
DESCRIPTION:Experience the magic of Puerto Rican folk music with cuatro virtuosa Fabiola M ndez at Cape Symphony's Falmouth campus (60 Highfield Drive) on Saturday\, October 26 at 7:00 PM. Starting her musical journey at just six years old in Caguas\, PR\, Fabiola has grown into one of the leading ambassadors of the Puerto Rican cuatro\, bringing her powerful performances to audiences worldwide. A graduate of Berklee College of Music\, and the first-ever to major in the cuatro\, Fabiola's mission is to celebrate the beauty and richness of Puerto Rican folk music. She's captivated audiences at the Metropolitan Museum of Art\, the New Orleans Jazz & Heritage Festival\, and beyond. Her collaborations span artists and organizations\, including the Puerto Rico Symphony Orchestra\, Tot  La Momposina\, and productions on Disney+\, PBS Kids\, and HBO Max. Fabiola's music tells a story of cultural pride\, Afro-Latinx experiences\, and the vibrant traditions of Puerto Rico. You'll hear selections from her celebrated albums: Al Otro Lado del Charco (2019)\, Afrorrique a (2021)\, and her newest release\, Flora Campesina (2024). Whether you're a fan of Latin music\, folk traditions\, or just great performances\, this is a show you won't want to miss. Tickets are limited\, so grab yours today! Visit https://www.capesymphony.org/cape-symphony-presents/fabiola-mendez. Tickets are $25.00. Student discount available! Email rchwastiak@capesymphony.org for more info.
X-ALT-DESC;FMTTYPE=text/html:Experience the magic of Puerto Rican folk music with cuatro virtuosa Fabiola M&eacute\;ndez at Cape Symphony&rsquo\;s Falmouth campus (60 Highfield Drive) on Saturday\, October 26 at 7:00 PM. Starting her musical journey at just six years old in Caguas\, PR\, Fabiola has grown into one of the leading ambassadors of the Puerto Rican cuatro\, bringing her powerful performances to audiences worldwide. A graduate of Berklee College of Music\, and the first-ever to major in the cuatro\, Fabiola&rsquo\;s mission is to celebrate the beauty and richness of Puerto Rican folk music. She&rsquo\;s captivated audiences at the Metropolitan Museum of Art\, the New Orleans Jazz &amp\; Heritage Festival\, and beyond. Her collaborations span artists and organizations\, including the Puerto Rico Symphony Orchestra\, Tot&oacute\; La Momposina\, and productions on Disney+\, PBS Kids\, and HBO Max. Fabiola&rsquo\;s music tells a story of cultural pride\, Afro-Latinx experiences\, and the vibrant traditions of Puerto Rico. You&rsquo\;ll hear selections from her celebrated albums: Al Otro Lado del Charco (2019)\, Afrorrique&ntilde\;a (2021)\, and her newest release\, Flora Campesina (2024). Whether you&#39\;re a fan of Latin music\, folk traditions\, or just great performances\, this is a show you won&rsquo\;t want to miss. Tickets are limited\, so grab yours today! Visit https://www.capesymphony.org/cape-symphony-presents/fabiola-mendez. Tickets are $25.00. Student discount available! Email rchwastiak@capesymphony.org for more info.
LOCATION:Cape Symphony\, Falmouth campus 60 Highfield Drive
UID:e.3353.7577
SEQUENCE:3
DTSTAMP:20260425T215445Z
URL:https://members.brewster-capecod.com/events/details/cape-symphony-presents-fabiola-m&#233;ndez-7577
END:VEVENT

END:VCALENDAR
