BEGIN:VCALENDAR
VERSION:2.0
PRODID:-//ChamberMaster//Event Calendar 2.0//EN
METHOD:PUBLISH
X-PUBLISHED-TTL:P3D
REFRESH-INTERVAL:P3D
CALSCALE:GREGORIAN
BEGIN:VEVENT
DTSTART:20231202T003000Z
DTEND:20231202T020000Z
X-MICROSOFT-CDO-ALLDAYEVENT:FALSE
SUMMARY:Cape Rep: "Sing Out" Musical Revue
DESCRIPTION:Join Cape Rep for a festive frolic as they close out their 2023 season with some beloved Broadway tunes\, songs of the season and more. Featuring Trish LaRose\, Wendy Watson\, Anthony Teixeira\, Jared Hagan\, Maura Hanlon\, Nick Nudler\, Brian Lore Evans and Kirsten Peacock with Scott Storr at the piano.\n \n\nCape Rep Theatre\n\n3299 Main Street
X-ALT-DESC;FMTTYPE=text/html:<span style="font-size: 11.5pt\; font-family: Candara\, sans-serif\;">Join Cape Rep for a festive frolic as they close out their 2023 season with some beloved Broadway tunes\, songs of the season and more. Featuring Trish LaRose\, Wendy Watson\, Anthony Teixeira\, Jared Hagan\, Maura Hanlon\, Nick Nudler\, Brian Lore Evans and Kirsten Peacock with Scott Storr at the piano.</span>\n<div>&nbsp\;</div>\n\n<div><span style="font-size: 11.5pt\; font-family: Candara\, sans-serif\;">Cape Rep Theatre</span></div>\n\n<div><span style="font-size: 11.5pt\; font-family: Candara\, sans-serif\;">3299 Main Street&nbsp\;</span></div>\n
LOCATION:
UID:e.3353.6840
SEQUENCE:3
DTSTAMP:20260423T231420Z
URL:https://members.brewster-capecod.com/events/details/cape-rep-sing-out-musical-revue-12-01-2023-6840
END:VEVENT

END:VCALENDAR
