BEGIN:VCALENDAR
VERSION:2.0
PRODID:-//ChamberMaster//Event Calendar 2.0//EN
METHOD:PUBLISH
X-PUBLISHED-TTL:P3D
REFRESH-INTERVAL:P3D
CALSCALE:GREGORIAN
BEGIN:VEVENT
DTSTART:20260505T213000Z
DTEND:20260505T223000Z
X-MICROSOFT-CDO-ALLDAYEVENT:FALSE
SUMMARY:Brewster Ladies' Library Virtual: The History of Music in Ireland with Sean Murphy
DESCRIPTION:This virtual presentation will take a look at the history of Irish music derived from ancient manuscripts\, archaeological findings\, and historical records from the 5th century to the current day.\n\nYou will hear of the place that music occupied in ancient Celtic ceremonies\, and its relationship to the social and legal norms of ancient Celtic society.\n\nYou will learn of the growing number of instruments that have been discovered in Ireland that are testimony to the musical heritage that has developed over time. Some of the findings were accidental and others the result of archaeological research.\n\nThe Celtic revival starting in the late 19th century will be outlined and will provide a basis for understanding the remarkable level of interest and participation in Irish music that provides us all\, players and listeners\, with such joy today.\n\nOffered in partnership with the Centerville and Eldredge Public Libraries.\n\nAbout the Presenter\n\nSean Murphy was born and reared in Dublin and came to live on Cape Cod in 2005. He has a passion for his homeland and loves to share his knowledge and interest about his heritage through classes\, workshops and conversation. He worked as a math teacher in public schools until he retired in 2017.\n\nHe is a teacher of Irish history\, music\, and dance. Over the past fifteen years he has taught courses at the Irish Cultural Center of New England in Canton\, Cape Cod Sons of Erin\, Cape Cod Cultural Center\, the Cotuit Center for the Arts\, and at venues on Nantucket.\n\nSince the outbreak of the Covid 19 pandemic\, he has been presenting his courses online using Zoom\, YouTube\, and Facebook.\n\nHis interest in Irish history and culture stems from his involvement in a wide range of community activities in Ireland starting in the late 60s. In 1998 he was elected as the representative of the community and voluntary sector on the Dublin City Development Board that produced the strategic Plan "Dublin: A City of Possibilities 2001-2012."\n\nIn 2014 and 2019 he was awarded the Thomas P McCann "Altruism Award" trophy by the Cape Cod St. Patrick's Day Committee for his "support and commitment to the Culture and\n\nHeritage of Ireland and its people."\n\nHe leads a traditional Irish music session in O'Shea's Old Inne in West Dennis every Sunday night.\n\nHe speaks on Irish cultural\, historic\, and general issues at libraries\, at private and community events\, and in recent years on cruises.\n\nSean Murphy has a bachelor's degree and a master's degree from Trinity College Dublin's department of Economic and Social Studies\; a BSC in Mathematics and Physics from London University\; and qualified as a Management Accountant with the Dublin Business School. He is a nationally certified Business Mentor.\n\nHe has developed a comprehensive Irish history program that has two elements: a chronological history of Ireland from its formation as a physical entity to the present day\, and a history of each of the 32 counties in Ireland.
X-ALT-DESC;FMTTYPE=text/html:<p>This virtual presentation will take a look at the history of Irish music derived from ancient manuscripts\, archaeological findings\, and historical records from the 5th century to the current day.</p>\n\n<p>You will hear of the place that music occupied in ancient Celtic ceremonies\, and its relationship to the social and legal norms of ancient Celtic society.</p>\n\n<p>You will learn of the growing number of instruments that have been discovered in Ireland that are testimony to the musical heritage that has developed over time. Some of the findings were accidental and others the result of archaeological research.</p>\n\n<p>The Celtic revival starting in the late 19th century will be outlined and will provide a basis for understanding the remarkable level of interest and participation in Irish music that provides us all\, players and listeners\, with such joy today.</p>\n\n<p>Offered in partnership with the Centerville and Eldredge Public Libraries.</p>\n\n<p><u>About the Presenter</u></p>\n\n<p>Sean Murphy was born and reared in Dublin and came to live on Cape Cod in 2005. He has a passion for his homeland and loves to share his knowledge and interest about his heritage through classes\, workshops and conversation. He worked as a math teacher in public schools until he retired in 2017.</p>\n\n<p>He is a teacher of Irish history\, music\, and dance. Over the past fifteen years he has taught courses at the Irish Cultural Center of New England in Canton\, Cape Cod Sons of Erin\, Cape Cod Cultural Center\, the Cotuit Center for the Arts\, and at venues on Nantucket.</p>\n\n<p>Since the outbreak of the Covid 19 pandemic\, he has been presenting his courses online using Zoom\, YouTube\, and Facebook.</p>\n\n<p>His interest in Irish history and culture stems from his involvement in a wide range of community activities in Ireland starting in the late 60s. In 1998 he was elected as the representative of the community and voluntary sector on the Dublin City Development Board that produced the strategic Plan &quot\;Dublin: A City of Possibilities 2001-2012.&quot\;</p>\n\n<p>In 2014 and 2019 he was awarded the Thomas P McCann &quot\;Altruism Award&quot\; trophy by the Cape Cod St. Patrick&#39\;s Day Committee for his &quot\;support and commitment to the Culture and</p>\n\n<p>Heritage of Ireland and its people.&quot\;</p>\n\n<p>He leads a traditional Irish music session in O&rsquo\;Shea&rsquo\;s Old Inne in West Dennis every&nbsp\;Sunday&nbsp\;night.</p>\n\n<p>He speaks on Irish cultural\, historic\, and general issues at libraries\, at private and community events\, and in recent years on cruises.</p>\n\n<p>Sean Murphy has a bachelor&rsquo\;s degree and a master&rsquo\;s degree from Trinity College Dublin&#39\;s department of Economic and Social Studies\; a BSC in Mathematics and Physics from London University\; and qualified as a Management Accountant with the Dublin Business School. He is a nationally certified Business Mentor.</p>\n\n<p>He has developed a comprehensive Irish history program that has two elements: a chronological history of Ireland from its formation as a physical entity to the present day\, and a history of each of the 32 counties in Ireland.</p>\n
LOCATION:Zoom
UID:e.3353.8713
SEQUENCE:3
DTSTAMP:20260424T013312Z
URL:https://members.brewster-capecod.com/events/details/brewster-ladies-library-virtual-the-history-of-music-in-ireland-with-sean-murphy-8713
END:VEVENT

END:VCALENDAR
