BEGIN:VCALENDAR
VERSION:2.0
PRODID:-//ChamberMaster//Event Calendar 2.0//EN
METHOD:PUBLISH
X-PUBLISHED-TTL:P3D
REFRESH-INTERVAL:P3D
CALSCALE:GREGORIAN
BEGIN:VEVENT
DTSTART:20260505T180000Z
DTEND:20260505T190000Z
X-MICROSOFT-CDO-ALLDAYEVENT:FALSE
SUMMARY:Brewster Ladies' Library Virtual Speaker Series: JoyFull: Eat Freely & Live Radiantly with Radhi Devlukia-Shetty
DESCRIPTION:JoyFull: Daily Rituals to Eat Freely and Live Radiantly with Radhi Devlukia-Shetty\n\nHow can singing to your food and eating dessert before dinner improve your digestion\, skin\, and overall wellbeing? Bestselling author and entrepreneur Radhi Devlukia-Shetty takes us on a journey\, written with generosity and kindness\, in her book JoyFull.\n\nA passionate self-taught cook and nutritionist\, Radhi Devlukia-Shetty's JoyFull is abundant and inviting. With more than 125 plant-based recipes\, it is designed to balance health and satisfaction\; her wide-ranging dishes bring vibrant flavors to every meal of the day and rely on accessible ingredients.\n\nAnd because food alone cannot sustain us completely\, Radhi shares her daily wellness practices: her revitalizing morning skincare routine\, ancient rituals to nourish and strengthen your hair\, meditations and prayers for staying present\, and breathwork that will carry you through each phase of the day.\n\nRadhi shares its transformative principles in a way that's easy for anyone to incorporate into their life. She offers mindful practices around cooking and explains how\, as we connect to our food and understand our body\, we can improve our health. Whether satisfying comfort food or a gentle bowl of grains and veggies\, each dish and ritual in JoyFull is intended to bring harmony to you and your body.\n\nRegister now for an insightful discussion about the making of the book and how to take steps towards living a more JoyFull life! If you cannot watch the live session\, a recording will be available.\n\nRegister & Submit Questions Here: https://libraryc.org/brewsterladieslibrary/154717\n\nAbout the Author:\n\nRadhi Devlukia-Shetty is the author of the New York Times bestselling cookbook JoyFull\, the podcast host of A Really Good Cry\, a plant-based cook\, mission-driven entrepreneur\, and co-founder of Juni Tea. With her background as a dietitian and nutritionist and her studies in Ayurveda\, Radhi shares everything from her recipes\, health tips\, wellness videos\, natural skincare and beauty\, and how to live a conscious lifestyle.
X-ALT-DESC;FMTTYPE=text/html:<div>\n<p>JoyFull: Daily Rituals to Eat Freely and Live Radiantly with Radhi Devlukia-Shetty</p>\n\n<p>How can singing to your food and eating dessert before dinner improve your digestion\, skin\, and overall wellbeing? Bestselling author and entrepreneur Radhi Devlukia-Shetty takes us on a journey\, written with generosity and kindness\, in her book <em>JoyFull</em>.</p>\n\n<p>A passionate self-taught cook and nutritionist\, Radhi Devlukia-Shetty&rsquo\;s <em>JoyFull</em> is abundant and inviting. With more than 125 plant-based recipes\, it is designed to balance health and satisfaction\; her wide-ranging dishes bring vibrant flavors to every meal of the day and rely on accessible ingredients.</p>\n\n<p>And because food alone cannot sustain us completely\, Radhi shares her daily wellness practices: her revitalizing morning skincare routine\, ancient rituals to nourish and strengthen your hair\, meditations and prayers for staying present\, and breathwork that will carry you through each phase of the day.</p>\n\n<p>Radhi shares its transformative principles in a way that&#39\;s easy for anyone to incorporate into their life. She offers mindful practices around cooking and explains how\, as we connect to our food and understand our body\, we can improve our health. Whether satisfying comfort food or a gentle bowl of grains and veggies\, each dish&mdash\;and ritual&mdash\;in JoyFull is intended to bring harmony to you and your body.</p>\n\n<p>Register now for an insightful discussion about the making of the book and how to take steps towards living a more JoyFull life! If you cannot watch the live session\, a recording will be available.</p>\n\n<p>Register &amp\; Submit Questions Here: <a href="https://libraryc.org/brewsterladieslibrary/154717" target="_blank">https://libraryc.org/brewsterladieslibrary/154717</a></p>\n\n<p><strong>About the Author</strong>:</p>\n\n<p>Radhi Devlukia-Shetty is the author of the <em>New York Times</em> bestselling cookbook <em>JoyFull</em>\, the podcast host of A Really Good Cry\, a plant-based cook\, mission-driven entrepreneur\, and co-founder of Juni Tea. With her background as a dietitian and nutritionist and her studies in Ayurveda\, Radhi shares everything from her recipes\, health tips\, wellness videos\, natural skincare and beauty\, and how to live a conscious lifestyle.</p>\n</div>\n
LOCATION:Auditorium Brewster Ladies' Library 1822 Main Street\, Brewster\, MA\, 02631
UID:e.3353.8712
SEQUENCE:3
DTSTAMP:20260424T013006Z
URL:https://members.brewster-capecod.com/events/details/brewster-ladies-library-virtual-speaker-series-joyfull-eat-freely-live-radiantly-with-radhi-devlukia-shetty-8712
END:VEVENT

END:VCALENDAR
