BEGIN:VCALENDAR
VERSION:2.0
PRODID:-//ChamberMaster//Event Calendar 2.0//EN
METHOD:PUBLISH
X-PUBLISHED-TTL:P3D
REFRESH-INTERVAL:P3D
CALSCALE:GREGORIAN
BEGIN:VEVENT
DTSTART:20240821T230000Z
DTEND:20240822T000000Z
X-MICROSOFT-CDO-ALLDAYEVENT:FALSE
SUMMARY:Brewster Ladies' Library Virtual Speaker Series: Friendship\, Reckoning\, and Hope with Novelist Shelby Van Pelt
DESCRIPTION:An Exploration of Friendship\, Reckoning\, and Hope with novelist Shelby Van Pelt\n\n\n\nWe invite you to join us as we chat with the amazing New York Times bestselling author Shelby Van Pelt about her beloved novel Remarkably Bright Creatures. You don't want to miss this deep-dive exploration of friendship\, reckoning\, hope\, and so much more!\n\n\n\nRemarkably Bright Creatures is a luminous debut novel about a widow's unlikely friendship with a giant Pacific octopus reluctantly residing at the local aquarium and the truths she finally uncovers about her son's disappearance 30 years ago.\n\n\n\nAfter Tova Sullivan's husband died\, she began working the night shift at the Sowell Bay Aquarium\, mopping floors and tidying up. Keeping busy has always helped her cope\, which she's been doing since her eighteen-year-old son\, Erik\, mysteriously vanished on a boat in the Puget Sound over 30 years ago.\n\n\n\nAs she works\, Tova becomes acquainted with curmudgeonly Marcellus\, a giant Pacific octopus living at the aquarium. Marcellus knows more than anyone can imagine\, but wouldn't dream of lifting one of his eight tentacles for his human captors until he forms an unlikely friendship with Tova.\n\n\n\nEver the detective\, Marcellus deduces what happened the night Tova's son disappeared. As his affection for Tova grows\, Marcellus must use every trick his old\, invertebrate body can muster to unearth the truth for her before it's too late.\n\n\n\nCharming\, compulsively readable\, and full of wit\, Shelby Van Pelt's debut novel is a beautiful exploration of friendship\, reckoning\, and hope a reminder that sometimes taking a hard look at the past can help uncover a future that once felt impossible. Register now for a conversation you just don't want to miss!\n\n\n\nIf you cannot watch the live session\, a recording will be available.\n\n\n\nRegister here: https://libraryc.org/brewsterladieslibrary/53354\n\n\n\nAbout the Author: Shelby Van Pelt's debut novel\, REMARKABLY BRIGHT CREATURES\, was published by Ecco/HarperCollins (US) and Bloomsbury (UK) in Spring 2022 and was an Instant New York Times bestseller and has sold a million and a half copies. Born and raised in the Pacific Northwest\, she's now missing the mountains in the Chicago area with her husband and two children.
X-ALT-DESC;FMTTYPE=text/html:An Exploration of Friendship\, Reckoning\, and Hope with novelist Shelby Van Pelt<br />\n<br />\nWe invite you to join us as we chat with the amazing New York Times bestselling author Shelby Van Pelt about her beloved novel Remarkably Bright Creatures. You don&rsquo\;t want to miss this deep-dive exploration of friendship\, reckoning\, hope\, and so much more!<br />\n<br />\nRemarkably Bright Creatures is a luminous debut novel about a widow&rsquo\;s unlikely friendship with a giant Pacific octopus reluctantly residing at the local aquarium&mdash\;and the truths she finally uncovers about her son&rsquo\;s disappearance 30 years ago.<br />\n<br />\nAfter Tova Sullivan&rsquo\;s husband died\, she began working the night shift at the Sowell Bay Aquarium\, mopping floors and tidying up. Keeping busy has always helped her cope\, which she&rsquo\;s been doing since her eighteen-year-old son\, Erik\, mysteriously vanished on a boat in the Puget Sound over 30 years ago.<br />\n<br />\nAs she works\, Tova becomes acquainted with curmudgeonly Marcellus\, a giant Pacific octopus living at the aquarium. Marcellus knows more than anyone can imagine\, but wouldn&rsquo\;t dream of lifting one of his eight tentacles for his human captors&mdash\;until he forms an unlikely friendship with Tova.<br />\n<br />\nEver the detective\, Marcellus deduces what happened the night Tova&rsquo\;s son disappeared. As his affection for Tova grows\, Marcellus must use every trick his old\, invertebrate body can muster to unearth the truth for her before it&rsquo\;s too late.<br />\n<br />\nCharming\, compulsively readable\, and full of wit\, Shelby Van Pelt&rsquo\;s debut novel is a beautiful exploration of friendship\, reckoning\, and hope&ndash\;a reminder that sometimes taking a hard look at the past can help uncover a future that once felt impossible. Register now for a conversation you just don&#39\;t want to miss!<br />\n<br />\nIf you cannot watch the live session\, a recording will be available.<br />\n<br />\nRegister here: https://libraryc.org/brewsterladieslibrary/53354<br />\n<br />\nAbout the Author: Shelby Van Pelt&rsquo\;s debut novel\, REMARKABLY BRIGHT CREATURES\, was published by Ecco/HarperCollins (US) and Bloomsbury (UK) in Spring 2022 and was an Instant New York Times bestseller and has sold a million and a half copies. Born and raised in the Pacific Northwest\, she&rsquo\;s now missing the mountains in the Chicago area with her husband and two children.
LOCATION:Zoom
UID:e.3353.7534
SEQUENCE:3
DTSTAMP:20260426T013805Z
URL:https://members.brewster-capecod.com/events/details/brewster-ladies-library-virtual-speaker-series-friendship-reckoning-and-hope-with-novelist-shelby-van-pelt-7534
END:VEVENT

END:VCALENDAR
