BEGIN:VCALENDAR
VERSION:2.0
PRODID:-//ChamberMaster//Event Calendar 2.0//EN
METHOD:PUBLISH
X-PUBLISHED-TTL:P3D
REFRESH-INTERVAL:P3D
CALSCALE:GREGORIAN
BEGIN:VEVENT
DTSTART:20260507T213000Z
DTEND:20260507T230000Z
X-MICROSOFT-CDO-ALLDAYEVENT:FALSE
SUMMARY:Brewster Ladies' Library Screening of "Unerased" with Panel Discussion
DESCRIPTION:Join Brewster Ladies' Library for a screening and talkback of Unerased: Asian Voices of Cape Cod\, a short documentary that amplifies the experiences of members of our Asian community living or growing up on Cape Cod. Through personal stories and reflections\, the film explores identity\, community\, and a path to healing.\n\nWe will be joined by creators and participants of the documentary for a conversation after the screening.\n\nUnerased was made possible with funding from the Arts Foundation of Cape Cod\, the Massachusetts Cultural Council\, the National Endowment for the Arts\, and Wendy Wu.
X-ALT-DESC;FMTTYPE=text/html:<p>Join Brewster Ladies&#39\; Library for a screening and talkback of <em>Unerased: Asian Voices of Cape Cod</em>\, a short documentary that amplifies the experiences of members of our Asian community living or growing up on Cape Cod. Through personal stories and reflections\, the film explores identity\, community\, and a path to healing.</p>\n\n<p>We will be joined by creators and participants of the documentary for a conversation after the screening.</p>\n\n<p><em>Unerased</em> was made possible with funding from the Arts Foundation of Cape Cod\, the Massachusetts Cultural Council\, the National Endowment for the Arts\, and Wendy Wu.</p>\n
LOCATION:Auditorium Brewster Ladies' Library 1822 Main Street\, Brewster\, MA\, 02631
UID:e.3353.8715
SEQUENCE:3
DTSTAMP:20260423T233340Z
URL:https://members.brewster-capecod.com/events/details/brewster-ladies-library-screening-of-unerased-with-panel-discussion-8715
END:VEVENT

END:VCALENDAR
