BEGIN:VCALENDAR
VERSION:2.0
PRODID:-//ChamberMaster//Event Calendar 2.0//EN
METHOD:PUBLISH
X-PUBLISHED-TTL:P3D
REFRESH-INTERVAL:P3D
CALSCALE:GREGORIAN
BEGIN:VEVENT
DTSTART:20260502T180000Z
DTEND:20260502T200000Z
X-MICROSOFT-CDO-ALLDAYEVENT:FALSE
SUMMARY:Brewster Ladies' Library Reception for Light / Line / Memory
DESCRIPTION:Three artists turn the ordinary world into a place of resonance\, reflection\, and vitality. Together\, their work forms a three-way conversation.\n\n\n\nPainters: Maryann Yarmosky & Susan McDormand\n\n\n\nPhotographer: Paul Muratore
X-ALT-DESC;FMTTYPE=text/html:Three artists turn the ordinary world into a place of resonance\, reflection\, and vitality. Together\, their work forms a three-way conversation.<br />\n<br />\nPainters: Maryann Yarmosky &amp\; Susan McDormand<br />\n<br />\nPhotographer: Paul Muratore
LOCATION:Auditorium Brewster Ladies' Library 1822 Main Street\, Brewster\, MA\, 02631
UID:e.3353.8711
SEQUENCE:3
DTSTAMP:20260424T011844Z
URL:https://members.brewster-capecod.com/events/details/brewster-ladies-library-reception-for-light-line-memory-8711
END:VEVENT

END:VCALENDAR
