BEGIN:VCALENDAR
VERSION:2.0
PRODID:-//ChamberMaster//Event Calendar 2.0//EN
METHOD:PUBLISH
X-PUBLISHED-TTL:P3D
REFRESH-INTERVAL:P3D
CALSCALE:GREGORIAN
BEGIN:VEVENT
DTSTART:20240824T180000Z
DTEND:20240824T200000Z
X-MICROSOFT-CDO-ALLDAYEVENT:FALSE
SUMMARY:Brewster Ladies' Library presents Movie Matinee: Dog
DESCRIPTION:Dog is a buddy comedy that follows the misadventures of two former Army Rangers paired against their will on the road trip of a lifetime. Army Ranger Briggs (Channing Tatum) and Lulu (a Belgian Malinois dog) buckle into a 1984 Ford Bronco and race down the Pacific Coast in hopes of making it to a fellow soldier's funeral on time. Along the way\, they'll drive each other completely crazy\, break a small handful of laws\, narrowly evade death\, and learn to let down their guards in order to have a fighting chance of finding happiness. Rated PG-13.
X-ALT-DESC;FMTTYPE=text/html:<div>\n<p><em>Dog</em>&nbsp\;is a buddy comedy that follows the misadventures of two former Army Rangers paired against their will on the road trip of a lifetime. Army Ranger Briggs (Channing Tatum) and Lulu (a Belgian Malinois dog) buckle into a 1984 Ford Bronco and race down the Pacific Coast in hopes of making it to a fellow soldier&#39\;s funeral on time. Along the way\, they&#39\;ll drive each other completely crazy\, break a small handful of laws\, narrowly evade death\, and learn to let down their guards in order to have a fighting chance of finding happiness. Rated PG-13.</p>\n</div>\n
LOCATION:Auditorium Brewster Ladies' Library1822 Main Street\, Brewster\, MA\, 02631
UID:e.3353.7536
SEQUENCE:3
DTSTAMP:20260425T233846Z
URL:https://members.brewster-capecod.com/events/details/brewster-ladies-library-presents-movie-matinee-dog-7536
END:VEVENT

END:VCALENDAR
