BEGIN:VCALENDAR
VERSION:2.0
PRODID:-//ChamberMaster//Event Calendar 2.0//EN
METHOD:PUBLISH
X-PUBLISHED-TTL:P3D
REFRESH-INTERVAL:P3D
CALSCALE:GREGORIAN
BEGIN:VEVENT
DTSTART:20241008T210000Z
DTEND:20241008T223000Z
X-MICROSOFT-CDO-ALLDAYEVENT:FALSE
SUMMARY:Brewster Ladies' Library presents Massachusetts Cultural Council Information Table
DESCRIPTION:Members of the Brewster Cultural Council will be at a help and information desk for those interested in applying for the 2025 grants on Tuesdays\, September 24th and October 8th\, from 5:00-6:30pm\, and on Thursday\, September 26th\, from 5-6:30pm. The applications must be online\, and we are there to help as well as gather information about other initiatives artists\, writers\, dancers and the public might be more interested in.
X-ALT-DESC;FMTTYPE=text/html:Members of the Brewster Cultural Council will be at a help and information desk for those interested in applying for the 2025 grants on Tuesdays\, September 24th and October 8th\, from 5:00-6:30pm\, and on Thursday\, September 26th\, from 5-6:30pm. The applications must be online\, and we are there to help as well as gather information about other initiatives artists\, writers\, dancers and the public might be more interested in.&nbsp\;&nbsp\;
LOCATION:Outreach Table Brewster Ladies' Library1822 Main Street\, Brewster\, MA\, 02631
UID:e.3353.7561
SEQUENCE:3
DTSTAMP:20260425T213954Z
URL:https://members.brewster-capecod.com/events/details/brewster-ladies-library-presents-massachusetts-cultural-council-information-table-7561
END:VEVENT

END:VCALENDAR
