BEGIN:VCALENDAR
VERSION:2.0
PRODID:-//ChamberMaster//Event Calendar 2.0//EN
METHOD:PUBLISH
X-PUBLISHED-TTL:P3D
REFRESH-INTERVAL:P3D
CALSCALE:GREGORIAN
BEGIN:VEVENT
DTSTART:20260506T170000Z
DTEND:20260506T200000Z
X-MICROSOFT-CDO-ALLDAYEVENT:FALSE
SUMMARY:Brewster Ladies' Library Movie Matinee: The Grand Exotic Marigold Hotel
DESCRIPTION:In celebration of Older Americans Month\, join us at the Brewster Ladies' Library to view the movie The Grand Exotic Marigold Hotel. This film tells the story of several British retirees who move to India to stay in a hotel advertised as an exotic retirement home. Starring Maggie Smith\, Judi Dench\, Bill Nighy and Tom Wilkinson among others\, this is a delightful story of a group of spirited older persons who arrive at an unexpected\, dilapidated hotel yet manage to redefine their retirement dreams. Discussion will follow and light refreshments will be served. This program is offered in partnership with the Brewster Council on Aging.
X-ALT-DESC;FMTTYPE=text/html:In celebration of Older Americans Month\, join us at the Brewster Ladies&rsquo\; Library to view the movie <em>The</em>&nbsp\;<em>Grand</em><em>&nbsp\;Exotic Marigold Hotel</em>. This film tells the story of several British retirees who move to India to stay in a hotel advertised as an exotic retirement home. Starring Maggie Smith\, Judi Dench\, Bill Nighy and Tom Wilkinson among others\, this is a delightful story of a group of spirited older persons who arrive at an unexpected\, dilapidated hotel yet manage to redefine their retirement dreams. Discussion will follow and light refreshments will be served. This program is offered in partnership with the Brewster Council on Aging.
LOCATION:Auditorium Brewster Ladies' Library 1822 Main Street\, Brewster\, MA\, 02631
UID:e.3353.8714
SEQUENCE:3
DTSTAMP:20260423T233751Z
URL:https://members.brewster-capecod.com/events/details/brewster-ladies-library-movie-matinee-the-grand-exotic-marigold-hotel-8714
END:VEVENT

END:VCALENDAR
