BEGIN:VCALENDAR
VERSION:2.0
PRODID:-//ChamberMaster//Event Calendar 2.0//EN
METHOD:PUBLISH
X-PUBLISHED-TTL:P3D
REFRESH-INTERVAL:P3D
CALSCALE:GREGORIAN
BEGIN:VEVENT
DTSTART:20260520T180000Z
DTEND:20260520T193000Z
X-MICROSOFT-CDO-ALLDAYEVENT:FALSE
SUMMARY:Brewster Ladies' Library Medicare 101
DESCRIPTION:The session will review Medicare coverage options including:\n\n\n	Medicare parts A & B\,\n	Medicare Advantage Plans (Part C)\,\n	Medicare Prescription Drug Plans and Coverage ?(Part D)\n	Medicare Supplement Plans (Medigap).\n\n\nInformation about Public Assistance programs such as Prescription Advantage\, Extra Help from Social Security\, MassHealth\, and other programs to assist beneficiaries with limited resources to pay for health care costs will be addressed.  SHINE (Serving the Health Insurance Needs of Everyone) provides FREE unbiased health insurance counseling information and assistance to Massachusetts residents with Medicare\, their caregivers\, and those approaching Medicare eligibility. This program is offered in partnership with the Brewster Council on Aging.
X-ALT-DESC;FMTTYPE=text/html:<p>The session will review Medicare coverage options including:</p>\n\n<ul>\n	<li>Medicare parts A &amp\; B\,</li>\n	<li>Medicare Advantage Plans (Part C)\,</li>\n	<li>Medicare Prescription Drug Plans and Coverage ?(Part D)</li>\n	<li>Medicare Supplement Plans (Medigap).</li>\n</ul>\n\n<p>Information about Public Assistance programs such as Prescription Advantage\, Extra Help from Social Security\, MassHealth\, and other programs to assist beneficiaries with limited resources to pay for health care costs will be addressed.&nbsp\; SHINE (Serving the Health Insurance Needs of Everyone) provides FREE&nbsp\;unbiased&nbsp\;health insurance counseling information&nbsp\;and assistance to Massachusetts residents with Medicare\, their caregivers\, and those approaching Medicare eligibility. This program is offered in partnership with the Brewster Council on Aging.</p>\n
LOCATION:Auditorium Brewster Ladies' Library 1822 Main Street\, Brewster\, MA\, 02631
UID:e.3353.8721
SEQUENCE:3
DTSTAMP:20260423T233244Z
URL:https://members.brewster-capecod.com/events/details/brewster-ladies-library-medicare-101-8721
END:VEVENT

END:VCALENDAR
