BEGIN:VCALENDAR
VERSION:2.0
PRODID:-//ChamberMaster//Event Calendar 2.0//EN
METHOD:PUBLISH
X-PUBLISHED-TTL:P3D
REFRESH-INTERVAL:P3D
CALSCALE:GREGORIAN
BEGIN:VEVENT
DTSTART:20240807T190000Z
DTEND:20240807T200000Z
X-MICROSOFT-CDO-ALLDAYEVENT:FALSE
SUMMARY:Brewster Ladies' Library hosts Summer Concert: Jack Leyden and Oriana Camish
DESCRIPTION:Jack Leyden and Oriana Camish will play classic hits from the last five decades. Their music features two vocals\, one guitar\, and sometimes some prerecorded drums and bass.
X-ALT-DESC;FMTTYPE=text/html:<div>\n<p>Jack Leyden and Oriana Camish will play classic hits from the last five decades. Their music features two vocals\, one guitar\, and sometimes some prerecorded drums and bass.</p>\n</div>\n
LOCATION:Flagpole CourtyardBrewster Ladies' Library1822 Main Street\, Brewster\, MA\, 02631
UID:e.3353.7522
SEQUENCE:3
DTSTAMP:20260425T235721Z
URL:https://members.brewster-capecod.com/events/details/brewster-ladies-library-hosts-summer-concert-jack-leyden-and-oriana-camish-7522
END:VEVENT

END:VCALENDAR
