BEGIN:VCALENDAR
VERSION:2.0
PRODID:-//ChamberMaster//Event Calendar 2.0//EN
METHOD:PUBLISH
X-PUBLISHED-TTL:P3D
REFRESH-INTERVAL:P3D
CALSCALE:GREGORIAN
BEGIN:VEVENT
DTSTART:20240829T213000Z
DTEND:20240829T223000Z
X-MICROSOFT-CDO-ALLDAYEVENT:FALSE
SUMMARY:Brewster Ladies' Library hosts Design Your Landscape for Continuous Color with Master Gardener Cheryl Bryan
DESCRIPTION:It is possible to enjoy your garden with year-round color! First we'll review and illustrate some basic garden design principles\, then talk in depth and show specific plants that will maintain color through the seasons in your gardens. We'll  begin with the shortest days of winter and move through to the summer and fall bursts of color.\n\n\n\nAbout the Presenter\n\nCheryl Bryan is a past-president of the Barnstable County Master Gardeners program. Over the past ten years she has been active in the Children's Garden located in Brewster\, the Speakers Bureau and the Mentoring programs. When not gardening Cherie \, sings in the Chatham Chorale and Chamber Singers. She had a career working in and then training librarians. She served as Director of the Brewster Ladies Library during the construction of the current library building. Her current gardening interests are roses\, a salad garden in raised beds\, and nurturing the shrubs\, trees and flower beds around her home in Orleans.
X-ALT-DESC;FMTTYPE=text/html:It is possible to enjoy your garden with year-round color! First we&rsquo\;ll review and illustrate some basic garden design principles\, then talk in depth and show specific plants that will maintain color through the seasons in your gardens. We&#39\;ll&nbsp\; begin with the shortest days of winter and move through to the summer and fall bursts of color.<br />\n<br />\nAbout the Presenter<br />\nCheryl Bryan is a past-president of the Barnstable County Master Gardeners program. Over the past ten years she has been active in the Children&rsquo\;s Garden located in Brewster\, the Speakers Bureau and the Mentoring programs. When not gardening Cherie \, sings in the Chatham Chorale and Chamber Singers. She had a career working in and then training librarians. She served as Director of the Brewster Ladies Library during the construction of the current library building. Her current gardening interests are roses\, a salad garden in raised beds\, and nurturing the shrubs\, trees and flower beds around her home in Orleans.
LOCATION:Auditorium Brewster Ladies' Library1822 Main Street\, Brewster\, MA\, 02631
UID:e.3353.7537
SEQUENCE:3
DTSTAMP:20260426T013648Z
URL:https://members.brewster-capecod.com/events/details/brewster-ladies-library-hosts-design-your-landscape-for-continuous-color-with-master-gardener-cheryl-bryan-7537
END:VEVENT

END:VCALENDAR
