BEGIN:VCALENDAR
VERSION:2.0
PRODID:-//ChamberMaster//Event Calendar 2.0//EN
METHOD:PUBLISH
X-PUBLISHED-TTL:P3D
REFRESH-INTERVAL:P3D
CALSCALE:GREGORIAN
BEGIN:VEVENT
DTSTART:20240918T180000Z
DTEND:20240918T193000Z
X-MICROSOFT-CDO-ALLDAYEVENT:FALSE
SUMMARY:Brewster Ladies' Library Discovery & Enrichment Series: Wing Island: History Revealed Through Archaeology
DESCRIPTION:Ever since the end of the last ice age 11\,900 years ago\, Cape Cod has been shaped by the forces of nature. The coastline of Brewster and its only island provide an excellent example. The archaeology project on Wing Island has revealed the presence of the Wampanoag tribe on the island. Archaeologist Dr. Frederick Dunford will explain why the Wampanoags left and the importance of the island to the English colonists and their descendants. Dr. Dunford was the museum archaeologist at the Cape Cod Museum of Natural History in Brewster from 1982 through 2003. He has a bachelor's degree in anthropology from Harvard and a master's degree and doctorate from the University of Massachusetts. He is the horticulture specialist in the English village at the Plimoth Patuxet Museums.
X-ALT-DESC;FMTTYPE=text/html:Ever since the end of the last ice age 11\,900 years ago\, Cape Cod has been shaped by the forces of nature. The coastline of Brewster and its only island provide an excellent example. The archaeology project on Wing Island has revealed the presence of the Wampanoag tribe on the island. Archaeologist Dr. Frederick Dunford will explain why the Wampanoags left and the importance of the island to the English colonists and their descendants. Dr. Dunford was the museum archaeologist at the Cape Cod Museum of Natural History in Brewster from 1982 through 2003. He has a bachelor&rsquo\;s degree in anthropology from Harvard and a master&rsquo\;s degree and doctorate from the University of Massachusetts. He is the horticulture specialist in the English village at the Plimoth Patuxet Museums.
LOCATION:Brewster Ladies' Library\, 1822 Main Street\, Brewster\, MA 02631
UID:e.3353.7540
SEQUENCE:3
DTSTAMP:20260425T234049Z
URL:https://members.brewster-capecod.com/events/details/brewster-ladies-library-discovery-enrichment-series-wing-island-history-revealed-through-archaeology-7540
END:VEVENT

END:VCALENDAR
