BEGIN:VCALENDAR
VERSION:2.0
PRODID:-//ChamberMaster//Event Calendar 2.0//EN
METHOD:PUBLISH
X-PUBLISHED-TTL:P3D
REFRESH-INTERVAL:P3D
CALSCALE:GREGORIAN
BEGIN:VEVENT
DTSTART:20260613T143000Z
DTEND:20260613T153000Z
X-MICROSOFT-CDO-ALLDAYEVENT:FALSE
SUMMARY:Brewster Historical Society presents Native Plants\, Heirloom Flowers\, and a Brewster Garden's History
DESCRIPTION:This fun group workshop includes a discussion on the history of Caro's Garden located at the Cobb House Museum. Learn details about the plantings based on her c1873-1878 diary written as she lived in the house and an open discussion on gardening. Plus participants receive a complementary native plant to take home.
X-ALT-DESC;FMTTYPE=text/html:This fun group workshop includes a discussion on the history of Caro&#39\;s Garden located at the Cobb House Museum. Learn details about the plantings based on her c1873-1878 diary written as she lived in the house and an open discussion on gardening. Plus participants receive a complementary native plant to take home.
LOCATION:Brewster Historical Society 739 Lower Road Brewster\, MA 02631
UID:e.3353.8696
SEQUENCE:3
DTSTAMP:20260419T153602Z
URL:https://members.brewster-capecod.com/events/details/brewster-historical-society-presents-native-plants-heirloom-flowers-and-a-brewster-garden-s-history-8696
END:VEVENT

END:VCALENDAR
