BEGIN:VCALENDAR
VERSION:2.0
PRODID:-//ChamberMaster//Event Calendar 2.0//EN
METHOD:PUBLISH
X-PUBLISHED-TTL:P3D
REFRESH-INTERVAL:P3D
CALSCALE:GREGORIAN
BEGIN:VEVENT
DTSTART:20240822T220000Z
DTEND:20240822T233000Z
X-MICROSOFT-CDO-ALLDAYEVENT:FALSE
SUMMARY:Brewster Historical Society presents Bringing William Brewster to Life - A Mayflower Pilgrim Transformation
DESCRIPTION:Beginning in modern dress\, historian Richard Pickering will describe the Pilgrims' Mayflower voyage\, exploration of Cape Cod in November and December 1620\, and the harrowing (almost fatal) adventure that led them to select Plymouth as their settlement site. Then\, right before your eyes\, with historical clothing and artifacts provided by Plimoth Patuxet Museums\, he will transform into Mayflower passenger William Brewster. As an eyewitness\, Brewster will describe the Pilgrims' trials in founding Plymouth Colony. Hosted by Brewster Historical Society.
X-ALT-DESC;FMTTYPE=text/html:Beginning in modern dress\, historian Richard Pickering will describe the Pilgrims&#39\; Mayflower voyage\, exploration of Cape Cod in November and December 1620\, and the harrowing (almost fatal) adventure that led them to select Plymouth as their settlement site. Then\, right before your eyes\, with historical clothing and artifacts provided by Plimoth Patuxet Museums\, he will transform into Mayflower passenger William Brewster. As an eyewitness\, Brewster will describe the Pilgrims&#39\; trials in founding Plymouth Colony. Hosted by Brewster Historical Society.
LOCATION:1822 Main St\, Brewster\, MA\, 02631
UID:e.3353.7505
SEQUENCE:3
DTSTAMP:20260425T234116Z
URL:https://members.brewster-capecod.com/events/details/brewster-historical-society-presents-bringing-william-brewster-to-life-a-mayflower-pilgrim-transformation-7505
END:VEVENT

END:VCALENDAR
