BEGIN:VCALENDAR
VERSION:2.0
PRODID:-//ChamberMaster//Event Calendar 2.0//EN
METHOD:PUBLISH
X-PUBLISHED-TTL:P3D
REFRESH-INTERVAL:P3D
CALSCALE:GREGORIAN
BEGIN:VEVENT
DTSTART:20240807T133000Z
DTEND:20240807T143000Z
X-MICROSOFT-CDO-ALLDAYEVENT:FALSE
SUMMARY:Brewster Historical Society hosts Historic Main Street Walking Tour
DESCRIPTION:An hour long\, guided walking tour along Brewster's historic Main Street\, also called the Old Kings Highway. Discover the past about many antique homes\, brave sea captains\, long gone citizens. Meet at the parking lot behind the Brewster Inn and Chowder House at 1993 Main Street\, Brewster MA. Free parking at the rear. Advance tickets only.
X-ALT-DESC;FMTTYPE=text/html:An hour long\, guided walking tour along Brewster&rsquo\;s historic Main Street\, also called the Old Kings Highway. Discover the past about many antique homes\, brave sea captains\, long gone citizens. Meet at the parking lot behind the Brewster Inn and Chowder House at 1993 Main Street\, Brewster MA. Free parking at the rear. Advance tickets only.
LOCATION:1993 Main St\, Brewster\, MA\, 02631
UID:e.3353.7502
SEQUENCE:3
DTSTAMP:20260425T234213Z
URL:https://members.brewster-capecod.com/events/details/brewster-historical-society-hosts-historic-main-street-walking-tour-7502
END:VEVENT

END:VCALENDAR
