BEGIN:VCALENDAR
VERSION:2.0
PRODID:-//ChamberMaster//Event Calendar 2.0//EN
METHOD:PUBLISH
X-PUBLISHED-TTL:P3D
REFRESH-INTERVAL:P3D
CALSCALE:GREGORIAN
BEGIN:VEVENT
DTSTART:20221027T200000Z
DTEND:20221027T213000Z
X-MICROSOFT-CDO-ALLDAYEVENT:FALSE
SUMMARY:BHS: Cemetery Walking Tour
DESCRIPTION:Scripted by Brewster author and BHS President Sally Cabot Gunning\, "A Grave Situation" features a narrated walking tour of the famous\, the infamous\, the unknown and ignored   till now. \n\n \n\nExpect uneven terrain   and surprises!
X-ALT-DESC;FMTTYPE=text/html:<div style="color: rgb(77\, 74\, 77)\; font-family: Arial\, Verdana\, Helvetica\, sans-serif\; font-size: 16px\; white-space: pre-wrap\; background-color: rgb(255\, 255\, 255)\;"><span style="font-size: 18px\; color: rgb(0\, 0\, 0)\; font-family: Candara\, &quot\;Trebuchet MS&quot\;\, Arial\, sans-serif\;">Scripted by Brewster author and BHS President Sally Cabot Gunning\, &quot\;A Grave Situation&quot\; features a narrated walking tour of the famous\, the infamous\, the unknown and ignored &ndash\;&nbsp\;till now. </span></div>\n\n<div style="color: rgb(77\, 74\, 77)\; font-family: Arial\, Verdana\, Helvetica\, sans-serif\; font-size: 16px\; white-space: pre-wrap\; background-color: rgb(255\, 255\, 255)\;">&nbsp\;</div>\n\n<div style="color: rgb(77\, 74\, 77)\; font-family: Arial\, Verdana\, Helvetica\, sans-serif\; font-size: 16px\; white-space: pre-wrap\; background-color: rgb(255\, 255\, 255)\;"><span style="font-size: 18px\; color: rgb(0\, 0\, 0)\; font-family: Candara\, &quot\;Trebuchet MS&quot\;\, Arial\, sans-serif\;">Expect uneven terrain&nbsp\;&mdash\; and surprises! </span></div>\n
LOCATION:
UID:e.3353.4692
SEQUENCE:3
DTSTAMP:20260423T225720Z
URL:https://members.brewster-capecod.com/events/details/bhs-cemetery-walking-tour-4692
END:VEVENT

END:VCALENDAR
