BEGIN:VCALENDAR
VERSION:2.0
PRODID:-//ChamberMaster//Event Calendar 2.0//EN
METHOD:PUBLISH
X-PUBLISHED-TTL:P3D
REFRESH-INTERVAL:P3D
CALSCALE:GREGORIAN
BEGIN:VEVENT
DTSTART:20250112T203000Z
DTEND:20250112T213000Z
X-MICROSOFT-CDO-ALLDAYEVENT:FALSE
SUMMARY:Arts Empowering Life presents Visual Storytelling: A Universal Language—Arts Speak Series
DESCRIPTION:Creative director\, designer\, and visual artist\, Vita Tzykun\, has designed and directed productions for companies worldwide. She will share how visual storytelling emerges as a powerful tool that transcends cultural and linguistic barriers\, weaving narratives that resonate across diverse audiences. This talk delves into the art of visual communication\, exploring how core elements such as color\, composition\, shape\, pattern\, and texture work in harmony to convey complex messages and evoke profound emotions. Free admission. Info: https://performingartscentercapecod.org/programs/arts-entertainment-series/ In Person & Livestream
X-ALT-DESC;FMTTYPE=text/html:Creative director\, designer\, and visual artist\, Vita Tzykun\, has designed and directed productions for companies worldwide. She will share how visual storytelling emerges as a powerful tool that transcends cultural and linguistic barriers\, weaving narratives that resonate across diverse audiences. This talk delves into the art of visual communication\, exploring how core elements such as color\, composition\, shape\, pattern\, and texture work in harmony to convey complex messages and evoke profound emotions. Free admission. Info: https://performingartscentercapecod.org/programs/arts-entertainment-series/ In Person &amp\; Livestream
LOCATION:Performing Arts Center 95 Southern Eagle Cartway\, Brewster
UID:e.3353.7688
SEQUENCE:3
DTSTAMP:20260425T195946Z
URL:https://members.brewster-capecod.com/events/details/arts-empowering-life-presents-visual-storytelling-a-universal-language-arts-speak-series-7688
END:VEVENT

END:VCALENDAR
