BEGIN:VCALENDAR
VERSION:2.0
PRODID:-//ChamberMaster//Event Calendar 2.0//EN
METHOD:PUBLISH
X-PUBLISHED-TTL:P3D
REFRESH-INTERVAL:P3D
CALSCALE:GREGORIAN
BEGIN:VEVENT
DTSTART:20241109T003000Z
DTEND:20241110T020000Z
X-MICROSOFT-CDO-ALLDAYEVENT:FALSE
SUMMARY:Arts Empowering LIfe presents Veterans Concert: Dona Nobis Pacem
DESCRIPTION:Experience a powerful performance by world renowned Glori  Dei Cantores and orchestra to commemorate Veterans Day and express our gratitude for the sacrifices of veterans worldwide. This concert\, conducted by Richard K. Pugsley at the Church of the Transfiguration in Orleans\, features captivating works by the composer Eriks E envalds\, including The Heavenly Flock and The Earthly Rose. Additionally\, the concert will showcase two hauntingly beautiful pieces for chorus and orchestra by British composers: Gerald Finzi's Lo\, the Full Final Sacrifice\, and Ralph Vaughan Williams' Dona Nobis Pacem\, a moving plea for peace reflecting on the aftermath of World War I and the looming threat of World War II. Join us in honoring those who have served.
X-ALT-DESC;FMTTYPE=text/html:Experience a powerful performance by world renowned Glori&aelig\; Dei Cantores and orchestra to commemorate Veterans Day and express our gratitude for the sacrifices of veterans worldwide. This concert\, conducted by Richard K. Pugsley at the Church of the Transfiguration in Orleans\, features captivating works by the composer Eriks E&scaron\;envalds\, including The Heavenly Flock and The Earthly Rose. Additionally\, the concert will showcase two hauntingly beautiful pieces for chorus and orchestra by British composers: Gerald Finzi&rsquo\;s Lo\, the Full Final Sacrifice\, and Ralph Vaughan Williams&rsquo\; Dona Nobis Pacem\, a moving plea for peace reflecting on the aftermath of World War I and the looming threat of World War II. Join us in honoring those who have served.
LOCATION:Church of the Transfiguration Rock Harbor\, Orleans
UID:e.3353.7586
SEQUENCE:3
DTSTAMP:20260425T174805Z
URL:https://members.brewster-capecod.com/events/details/arts-empowering-life-presents-veterans-concert-dona-nobis-pacem-7586
END:VEVENT

END:VCALENDAR
