BEGIN:VCALENDAR
VERSION:2.0
PRODID:-//ChamberMaster//Event Calendar 2.0//EN
METHOD:PUBLISH
X-PUBLISHED-TTL:P3D
REFRESH-INTERVAL:P3D
CALSCALE:GREGORIAN
BEGIN:VEVENT
DTSTART:20250111T203000Z
DTEND:20250111T213000Z
X-MICROSOFT-CDO-ALLDAYEVENT:FALSE
SUMMARY:Arts Empowering Life presents Preserving Our Voice in a Digital Age—Arts Speak Series
DESCRIPTION:Internationally recognized operatic baritone\, director\, digital media artist\, and educator\, David Adam Moore performs at institutions including the Metropolitan Opera\, Teatro alla Scala\, Royal Opera House Covent Garden & Carnegie Hall. This talk explores the prehistory\, evolution\, and future of the singing voice. Drawing from his experience\, Moore makes a case for unamplified singing as one of the human body's most exquisite capabilities to serve as a vital connection to our humanity in an age increasingly defined by accelerating technology. Free admission. Info: https://performingartscentercapecod.org/programs/arts-entertainment-series/ In Person & Livestreamed
X-ALT-DESC;FMTTYPE=text/html:Internationally recognized operatic baritone\, director\, digital media artist\, and educator\, David Adam Moore performs at institutions including the Metropolitan Opera\, Teatro alla Scala\, Royal Opera House Covent Garden &amp\; Carnegie Hall. This talk explores the prehistory\, evolution\, and future of the singing voice. Drawing from his experience\, Moore makes a case for unamplified singing as one of the human body&rsquo\;s most exquisite capabilities to serve as a vital connection to our humanity in an age increasingly defined by accelerating technology. Free admission. Info: https://performingartscentercapecod.org/programs/arts-entertainment-series/ In Person &amp\; Livestreamed
LOCATION:Performing Arts Center 95 Southern Eagle Cartway\, Brewster
UID:e.3353.7687
SEQUENCE:3
DTSTAMP:20260425T200246Z
URL:https://members.brewster-capecod.com/events/details/arts-empowering-life-presents-preserving-our-voice-in-a-digital-age-arts-speak-series-7687
END:VEVENT

END:VCALENDAR
