BEGIN:VCALENDAR
VERSION:2.0
PRODID:-//ChamberMaster//Event Calendar 2.0//EN
METHOD:PUBLISH
X-PUBLISHED-TTL:P3D
REFRESH-INTERVAL:P3D
CALSCALE:GREGORIAN
BEGIN:VEVENT
DTSTART:20260605T233000Z
DTEND:20260606T010000Z
X-MICROSOFT-CDO-ALLDAYEVENT:FALSE
SUMMARY:Arts Empowering Life presents God of Our Fathers: Mighty Miracles of the American Revolution
DESCRIPTION:America 250 Series\, In Person & Livestreamed The Battle of Bunker Hill\, Presented by Dr. Kenyn Cureton This America 250 lecture celebrates God's Providence during our nation's fight for Independence\, highlighting key moments of divine intervention that took place during the Revolutionary War. Free admission for all! Info: 508-240-2400 | artsempoweringlife.org
X-ALT-DESC;FMTTYPE=text/html:America 250 Series\, In Person &amp\; Livestreamed The Battle of Bunker Hill\, Presented by Dr. Kenyn Cureton This America 250 lecture celebrates God&#39\;s Providence during our nation&rsquo\;s fight for Independence\, highlighting key moments of divine intervention that took place during the Revolutionary War. Free admission for all! Info: 508-240-2400 | artsempoweringlife.org
LOCATION:Performing Arts Center\, Brewster
UID:e.3353.8704
SEQUENCE:3
DTSTAMP:20260419T141020Z
URL:https://members.brewster-capecod.com/events/details/arts-empowering-life-presents-god-of-our-fathers-mighty-miracles-of-the-american-revolution-06-05-2026-8704
END:VEVENT

END:VCALENDAR
