BEGIN:VCALENDAR
VERSION:2.0
PRODID:-//ChamberMaster//Event Calendar 2.0//EN
METHOD:PUBLISH
X-PUBLISHED-TTL:P3D
REFRESH-INTERVAL:P3D
CALSCALE:GREGORIAN
BEGIN:VEVENT
DTSTART:20260313T233000Z
DTEND:20260314T010000Z
X-MICROSOFT-CDO-ALLDAYEVENT:FALSE
SUMMARY:Arts Empowering Life presents A Far Cry: Appalachian Spring
DESCRIPTION:Spend an extraordinary evening with Grammy nominated\, Boston based A Far Cry as they dive into a program featuring Aaron Copland's Appalachian Spring. Known for its innovative and compelling programs\, stellar communication\, and ensemble playing at its most intimate\, the group's energy and talent will astonish you! "Something about it feels perpetually fresh with every performance." Boston Globe Info: 508-240-2400 | artsempoweringlife.org (Free for Students & Youth)
X-ALT-DESC;FMTTYPE=text/html:Spend an extraordinary evening with Grammy nominated\, Boston based A Far Cry as they dive into a program featuring Aaron Copland&#39\;s Appalachian Spring. Known for its innovative and compelling programs\, stellar communication\, and ensemble playing at its most intimate\, the group&#39\;s energy and talent will astonish you! &ldquo\;Something about it feels perpetually fresh with every performance.&rdquo\; Boston Globe Info: 508-240-2400 | artsempoweringlife.org (Free for Students &amp\; Youth)
LOCATION:Performing Arts Center\, Brewster
UID:e.3353.8634
SEQUENCE:3
DTSTAMP:20260422T074420Z
URL:https://members.brewster-capecod.com/events/details/arts-empowering-life-presents-a-far-cry-appalachian-spring-8634
END:VEVENT

END:VCALENDAR
