BEGIN:VCALENDAR
VERSION:2.0
PRODID:-//ChamberMaster//Event Calendar 2.0//EN
METHOD:PUBLISH
X-PUBLISHED-TTL:P3D
REFRESH-INTERVAL:P3D
CALSCALE:GREGORIAN
BEGIN:VEVENT
DTSTART:20240810T233000Z
DTEND:20240811T210000Z
X-MICROSOFT-CDO-ALLDAYEVENT:FALSE
SUMMARY:Arts Empowering Life hosts OPERA GALA with Soloists and Orchestra
DESCRIPTION:August 10\, 7:30 PM & August 11\, 3:30 PM Selections from beloved operas the world over come alive with passion and virtuosity\, under the direction of Richard K. Pugsley. Featuring Rossini's Il Barbiere di Siviglia\, Wagner's Tannh user\, Verdi's Don Carlo\, Bizet's Carmen\, Mozart's Die Zauberfl te\, Puccini's Turandot\, and Verdi's La Traviata\, this special event will evoke the transformative power of musical storytelling that is Opera.
X-ALT-DESC;FMTTYPE=text/html:August 10\, 7:30 PM &amp\; August 11\, 3:30 PM Selections from beloved operas the world over come alive with passion and virtuosity\, under the direction of Richard K. Pugsley. Featuring Rossini&rsquo\;s Il Barbiere di Siviglia\, Wagner&rsquo\;s Tannh&auml\;user\, Verdi&rsquo\;s Don Carlo\, Bizet&rsquo\;s Carmen\, Mozart&rsquo\;s Die Zauberfl&ouml\;te\, Puccini&rsquo\;s Turandot\, and Verdi&rsquo\;s La Traviata\, this special event will evoke the transformative power of musical storytelling that is Opera.
LOCATION:Performing Arts Center\, Brewster
UID:e.3353.7509
SEQUENCE:3
DTSTAMP:20260425T233846Z
URL:https://members.brewster-capecod.com/events/details/arts-empowering-life-hosts-opera-gala-with-soloists-and-orchestra-7509
END:VEVENT

END:VCALENDAR
