BEGIN:VCALENDAR
VERSION:2.0
PRODID:-//ChamberMaster//Event Calendar 2.0//EN
METHOD:PUBLISH
X-PUBLISHED-TTL:P3D
REFRESH-INTERVAL:P3D
CALSCALE:GREGORIAN
BEGIN:VEVENT
DTSTART:20240709T130000Z
DTEND:20240814T180000Z
X-MICROSOFT-CDO-ALLDAYEVENT:FALSE
SUMMARY:Arts Empoering Life: Summer Arts Camp for Kids
DESCRIPTION:Arts Empowering Life offers performing arts camps for K-12 at the new Performing Arts Center. Days run 9am- 2pm. Available from July 9 to August 14\, 2024 Strings Tuesdays: Chamber music\, fiddling\, bowing technique\, and music by Baroque\, Classical\, Romantic\, and Contemporary composers Theatre Tuesdays: Improvisation\, storytelling\, and stagecraft\, using the body and imagination to bring a character to life Percussion Wednesdays: Drum circles\, rhythms in nature\, stick and mallet skills\, and many percussion styles and music Brass/Woodwind Wednesdays: Discover your best sound through small group and full ensemble work and music theory and rhythm basics and beyond. Registration is flexible. Come for just one or two days or sign up for the six-week session. Lunch and snacks are provided. Instruction caters to each individual's level.
X-ALT-DESC;FMTTYPE=text/html:Arts Empowering Life offers performing arts camps for K-12 at the new Performing Arts Center. Days run 9am- 2pm. Available from July 9 to August 14\, 2024 Strings&mdash\;Tuesdays: Chamber music\, fiddling\, bowing technique\, and music by Baroque\, Classical\, Romantic\, and Contemporary composers Theatre&mdash\;Tuesdays: Improvisation\, storytelling\, and stagecraft\, using the body and imagination to bring a character to life Percussion&mdash\;Wednesdays: Drum circles\, rhythms in nature\, stick and mallet skills\, and many percussion styles and music Brass/Woodwind&mdash\;Wednesdays: Discover your best sound through small group and full ensemble work and music theory and rhythm basics and beyond. Registration is flexible. Come for just one or two days or sign up for the six-week session. Lunch and snacks are provided. Instruction caters to each individual&lsquo\;s level.
LOCATION:Performing Arts Center\, Brewster 95 Southern Eagle Cartway\, Brewster MA 02631
UID:e.3353.6940
SEQUENCE:3
DTSTAMP:20260426T012600Z
URL:https://members.brewster-capecod.com/events/details/arts-empoering-life-summer-arts-camp-for-kids-6940
END:VEVENT

END:VCALENDAR
