BEGIN:VCALENDAR
VERSION:2.0
PRODID:-//ChamberMaster//Event Calendar 2.0//EN
METHOD:PUBLISH
X-PUBLISHED-TTL:P3D
REFRESH-INTERVAL:P3D
CALSCALE:GREGORIAN
BEGIN:VEVENT
DTSTART:20240803T140000Z
DTEND:20240804T200000Z
X-MICROSOFT-CDO-ALLDAYEVENT:FALSE
SUMMARY:A Different Drummer Craft Fair ~ August 3 & 4 Drummer Boy Park
DESCRIPTION:Welcome to the 3rd summer of A Different Drummer Craft Fairs! Over 40 select craftspeople and artists from Cape Cod and New England will be at this fair on the grounds of Drummer Boy Park on Route 6A in Brewster. These folk are chosen for their high quality of workmanship and variety in their craft and will be showcasing their unique handcrafted item. Jewelry\, decorative pillows\, Cape Cod Cranberry Harvest jams\, pet treats\, shell folk art\, engraved wood and signs\, landscape and marine watercolors\, mermaids\, clothing and accessories\, home decor\, local authors and artists\, Cape Cod photography\, scented candles\, temporary henna\, and sea glass creations and much more. Hours 10 - 4 rain or shine. Our next fair at Drummer Boy Park is September 21 & 22
X-ALT-DESC;FMTTYPE=text/html:Welcome to the 3rd summer of A Different Drummer Craft Fairs! Over 40 select craftspeople and artists from Cape Cod and New England will be at this fair on the grounds of Drummer Boy Park on Route 6A in Brewster. These folk are chosen for their high quality of workmanship and variety in their craft and will be showcasing their unique handcrafted item. Jewelry\, decorative pillows\, Cape Cod Cranberry Harvest jams\, pet treats\, shell folk art\, engraved wood and signs\, landscape and marine watercolors\, mermaids\, clothing and accessories\, home decor\, local authors and artists\, Cape Cod photography\, scented candles\, temporary henna\, and sea glass creations and much more. Hours 10 - 4 rain or shine. Our next fair at Drummer Boy Park is September 21 &amp\; 22
LOCATION:Drummer Boy Park 773 Old Kings Highway Route 6A Brewster\, MA
UID:e.3353.7044
SEQUENCE:3
DTSTAMP:20260425T233701Z
URL:https://members.brewster-capecod.com/events/details/a-different-drummer-craft-fair-august-3-4-drummer-boy-park-7044
END:VEVENT

END:VCALENDAR
